BEGIN:VCALENDAR
VERSION:2.0
PRODID:-//Belinda Discothek - ECPv6.6.1//NONSGML v1.0//EN
CALSCALE:GREGORIAN
METHOD:PUBLISH
X-ORIGINAL-URL:https://belinda-discothek.de
X-WR-CALDESC:Veranstaltungen für Belinda Discothek
REFRESH-INTERVAL;VALUE=DURATION:PT1H
X-Robots-Tag:noindex
X-PUBLISHED-TTL:PT1H
BEGIN:VTIMEZONE
TZID:Europe/Berlin
BEGIN:DAYLIGHT
TZOFFSETFROM:+0100
TZOFFSETTO:+0200
TZNAME:CEST
DTSTART:20250330T010000
END:DAYLIGHT
BEGIN:STANDARD
TZOFFSETFROM:+0200
TZOFFSETTO:+0100
TZNAME:CET
DTSTART:20251026T010000
END:STANDARD
END:VTIMEZONE
BEGIN:VEVENT
DTSTART;TZID=Europe/Berlin:20251219T200000
DTEND;TZID=Europe/Berlin:20251219T223000
DTSTAMP:20260422T122846
CREATED:20251107T120148Z
LAST-MODIFIED:20251109T133722Z
UID:15717-1766174400-1766183400@belinda-discothek.de
SUMMARY:Belinda X-Mass-Special: LIEDERMACHER CHRIS - Christoph Jäger und Sepp Steinkogler
DESCRIPTION:BELINDA X-MAS SPECIAL – LIEDERMACHER CHRIS \nNach seinen erfolgreichen und viel gelobten Konzerten mit dem Titel des gleichnamigen Albums HERZSCHLAG ist LiedermacherChris seit dem Sommer 2025 mit neuen Songs im Gepäck unterwegs. Auch in seinem neuen Programm AUF DIE FREUNDSCHAFT präsentiert der Singer-Songwriter Christoph Jäger\, weiterhin unterstützt von seinem Freund und Gitarristen Sepp Steinkogler\, überwiegend Eigenkompositionen\, die an die Tradition der Liedermacher und des Chansons anknüpfen. Von der verträumten Ballade bis hin zum temporeichen Lied über die Freundschaft und das Feiern sorgen Einflüsse verschiedenster musikalischer Stilrichtungen beim Songwriting für Abwechslung. Dabei darf sich das Publikum beim kommenden Konzert in der Belinda auf ein eigens auf die Vorweihnachtszeit zugeschnittenes Programm freuen\, bei welchem Klassiker wie Cohens “Hallelujah” oder Garth Brooks “Belleau Wood” nach langer Pause endlich wieder einmal aufgeführt werden – und auch der diesjährige musikalische Weihnachtsgruß “Mary\, did You know” wird erstmals live zu hören sein.\nFreuen Sie sich auf eine außergewöhnliche lyrisch-musikalische Reise\, garniert mit einem Hauch Weihnachtsstimmung und einer Brise Humor. Allein schon wegen der Musik der beiden und ihren ausdrucksstarken und herausragenden Stimmen lohnt sich ein Konzertbesuch. Aber es sind die aus unser aller Leben gegriffenen Lieder und Geschichten\, die jeden Konzertabend zu einem wahrlich außergewöhnlichen Erlebnis machen und zu Herzen gehen. Die Badische Zeitung brachte es so auf den Punkt: „Kluge Texte zu allen Aspekten des Lebens\, musikalisch mitreißend umgesetzt\, prägen den Stil des außergewöhnlichen Duos. \nTickets gibt es im Vorverkauf bei Eventfrog \n 
URL:https://belinda-discothek.de/event/belinda-x-mass-special-liedermacher-chris-christoph-jaeger-und-sepp-steinkogler-19-12-25-2000-uhr/
LOCATION:Discothek Belinda\, Backnanger Str. 78\, Sulzbach an der Murr\, 71560\, Deutschland
CATEGORIES:Konzerte/Events,Kultur im Kessel
ATTACH;FMTTYPE=image/jpeg:https://belinda-discothek.de/wp-content/uploads/2025/11/KiK_LiedermacherCHris_FB.jpg
ORGANIZER;CN="Begegnungs- und Kulturzentrum Akzente UG":MAILTO:kontakt@belinda-discothek.de
END:VEVENT
BEGIN:VEVENT
DTSTART;TZID=Europe/Berlin:20251224T220000
DTEND;TZID=Europe/Berlin:20251225T030000
DTSTAMP:20260422T122846
CREATED:20251107T125227Z
LAST-MODIFIED:20251107T125540Z
UID:15729-1766613600-1766631600@belinda-discothek.de
SUMMARY:Belinda X-Mas
DESCRIPTION:Keinen Bock auf #Heiligabend unterm Weihnachtsbaum im Wohnzimmer? Oder habt ihr “O Tannenbaum” so oft gehört\, dass euch die Ohren schon klingeln? Dann haben wir was für Euch: Belinda #X-Mas im Kessel!Statt Weihnachtsliedern erwartet Euch DJ Mogli mit knallharten Riffs\, mitreißenden Drums und Texten\, dass sogar der Weihnachtsmann seine Mütze vor ihnen zieht!Also\, packt eure Lederjacken und eure Luftgitarren aus und feiert mit uns eine garantiert NICHT “Stille Nacht”!!\n \nAb 22 Uhr sind wir für Euch da!\n \nNatürlich wird auch das Rockcafé oben offen sein und die Raucherbar ist auch besetzt.\nTickets online kaufen – und ohne Wartezeiten zum Feiern gehen: Tickets bei Eventfrog
URL:https://belinda-discothek.de/event/belinda-x-mas/
LOCATION:Discothek Belinda\, Backnanger Str. 78\, Sulzbach an der Murr\, 71560\, Deutschland
CATEGORIES:Disco-Veranstaltung
ATTACH;FMTTYPE=image/jpeg:https://belinda-discothek.de/wp-content/uploads/2025/11/Dezember2025_FB-1-scaled.jpg
ORGANIZER;CN="Belinda Discothek":MAILTO:kontakt@belinda-discothek.de
END:VEVENT
BEGIN:VEVENT
DTSTART;TZID=Europe/Berlin:20251225T200000
DTEND;TZID=Europe/Berlin:20251226T020000
DTSTAMP:20260422T122846
CREATED:20251107T130034Z
LAST-MODIFIED:20251121T155839Z
UID:15733-1766692800-1766714400@belinda-discothek.de
SUMMARY:Ü40 mit DJ Andy
DESCRIPTION:Und weiter geht es mit #X-Mas in der Belinda:DJ Andy heizt Euch am ersten Weihnachtsfeiertag bei der #Ü40 Party mit Rock & Pop der #70er und #80er kräftig ein. Von Abba bis Zappa\, da ist für jeden was dabei.  \nAb 20 Uhr sind wir für Euch da!
URL:https://belinda-discothek.de/event/ue40-mit-dj-andy/
LOCATION:Discothek Belinda\, Backnanger Str. 78\, Sulzbach an der Murr\, 71560\, Deutschland
CATEGORIES:Disco-Veranstaltung
ATTACH;FMTTYPE=image/jpeg:https://belinda-discothek.de/wp-content/uploads/2025/11/Dezember2025_FB6-scaled.jpg
ORGANIZER;CN="Belinda Discothek":MAILTO:kontakt@belinda-discothek.de
END:VEVENT
END:VCALENDAR