BEGIN:VCALENDAR
VERSION:2.0
PRODID:-//Belinda Discothek - ECPv6.6.1//NONSGML v1.0//EN
CALSCALE:GREGORIAN
METHOD:PUBLISH
X-WR-CALNAME:Belinda Discothek
X-ORIGINAL-URL:https://belinda-discothek.de
X-WR-CALDESC:Veranstaltungen für Belinda Discothek
REFRESH-INTERVAL;VALUE=DURATION:PT1H
X-Robots-Tag:noindex
X-PUBLISHED-TTL:PT1H
BEGIN:VTIMEZONE
TZID:Europe/Berlin
BEGIN:DAYLIGHT
TZOFFSETFROM:+0100
TZOFFSETTO:+0200
TZNAME:CEST
DTSTART:20260329T010000
END:DAYLIGHT
BEGIN:STANDARD
TZOFFSETFROM:+0200
TZOFFSETTO:+0100
TZNAME:CET
DTSTART:20261025T010000
END:STANDARD
END:VTIMEZONE
BEGIN:VEVENT
DTSTART;TZID=Europe/Berlin:20260103T200000
DTEND;TZID=Europe/Berlin:20260104T020000
DTSTAMP:20260424T155808
CREATED:20251228T112243Z
LAST-MODIFIED:20251228T112243Z
UID:15854-1767470400-1767492000@belinda-discothek.de
SUMMARY:Ü30 mit DJ Andy | Januar-Aktion: Unter 30 – Eintritt frei!
DESCRIPTION:Im Januar zahlen alle unter 30 Jahren bei uns keinen Eintritt.\nWarum wir das machen? Ganz einfach: Wir möchten jungen Leuten die Chance geben\, unsere gute alte Belinda kennenzulernen – ohne Hürde\, ohne Kosten\, einfach zum Reinschnuppern. Denn: Rock ist für alle da.\n\n\nDie U30-Aktion ist kein Zeichen von geringerer Wertschätzung oft älteren Stammgäste\, sondern ein Versuch\, langfristig neue Gäste zu gewinnen\, damit die Belinda für alle bestehen bleibt.\n\n\nDanke\, dass ihr uns unterstützt und mit uns gemeinsam die nächste Generation an Rockfans willkommen heißt. Denn nur mit “Nachwuchs” ist die Belinda zukunftsfähig!\n \n\n\nLaut. Echt. Legendär. Die Belinda Ü30 mit DJ Andy!\nHier gibt’s keine Chart-Eintagsfliegen\, sondern handverlesene Rock-Hymnen und echte Klassiker! Von mitreißenden Gitarrenriffs bis zu Songs\, die jeder aus voller Kehle mitsingen kann – wir liefern den Soundtrack für eine unvergessliche Nacht.\nFür den perfekten Mix sorgt kein Geringerer als DJ Andy. Seit Jahren bringt er die Tanzfläche mit seinem Gespür für echte Rock-Perlen und zeitlose Hits zum Beben.\nTanze\, feiere und genieße die Musik\, die dich schon immer begleitet hat. Kein belangloses Gedudel\, sondern echter Sound mit Charakter.\nAber Achtung: Wer Discofox oder Eurodance erwartet\, wird bitter enttäuscht werden \nPack deine Freunde ein und erlebe eine Party\, die hält\, was sie verspricht. Rock on!
URL:https://belinda-discothek.de/event/ue30-mit-dj-andy-januar-aktion-unter-30-eintritt-frei/
LOCATION:Discothek Belinda\, Backnanger Str. 78\, Sulzbach an der Murr\, 71560\, Deutschland
CATEGORIES:Disco-Veranstaltung
ATTACH;FMTTYPE=image/jpeg:https://belinda-discothek.de/wp-content/uploads/2025/12/Dezember2026_EF.jpg
ORGANIZER;CN="Belinda Discothek":MAILTO:kontakt@belinda-discothek.de
END:VEVENT
BEGIN:VEVENT
DTSTART;TZID=Europe/Berlin:20260110T200000
DTEND;TZID=Europe/Berlin:20260111T020000
DTSTAMP:20260424T155808
CREATED:20251228T112616Z
LAST-MODIFIED:20251228T140904Z
UID:15856-1768075200-1768096800@belinda-discothek.de
SUMMARY:VermiXed nochmal mit DJ Ralf – Unter 30? Eintritt frei!
DESCRIPTION:Im Januar zahlen alle unter 30 Jahren bei uns keinen Eintritt.\nWarum wir das machen? Ganz einfach: Wir möchten jungen Leuten die Chance geben\, unsere gute alte Belinda kennenzulernen – ohne Hürde\, ohne Kosten\, einfach zum Reinschnuppern. Denn: Rock ist für alle da.\n\n\nDie U30-Aktion ist kein Zeichen von geringerer Wertschätzung oft älteren Stammgäste\, sondern ein Versuch\, langfristig neue Gäste zu gewinnen\, damit die Belinda für alle bestehen bleibt.\n\n\nDanke\, dass ihr uns unterstützt und mit uns gemeinsam die nächste Generation an Rockfans willkommen heißt. Denn nur mit “Nachwuchs” ist die Belinda zukunftsfähig!\n\n\n \nVermiXed nochmal ist eine Reise durch unterschiedliche Musikgenres auf die Euch DJ Ralf mitnehmen möchte.Neben dem für die Belinda bekannten Rock\, hat er #Breakbeats\, #Grunge\, #Mittelalter-Rock\, #Nu Metal\, #Pop\, #Reggae\, #Techno\, #NewWave\, HipHop\, Deutsch-Rock/Pop und sogar französische Songs mit im Gepäck.Für seinen abwechslungsreichen und erfrischenden Mix\, beginnend bei den 80ern\, über die 90er bis hin zu den aktuellen Charts ist er stets auf der Suche nach alten und neuen tanzbaren Kostbarkeiten aus der vielfältigen Welt der Musik.Frei nach der Band Hiss: “Du bist jung oder alt\, reich oder pleite\, Moslem oder Christ\, Hindu oder Heide\, grün oder blau\, schwarz oder weiß\, was ist gut für den Körper für die Seele und den Geist\, DER TANZ….”
URL:https://belinda-discothek.de/event/vermixed-nochmal-mit-dj-ralf-unter-30-eintritt-frei/
LOCATION:Discothek Belinda\, Backnanger Str. 78\, Sulzbach an der Murr\, 71560\, Deutschland
CATEGORIES:Disco-Veranstaltung
ATTACH;FMTTYPE=image/jpeg:https://belinda-discothek.de/wp-content/uploads/2025/12/Dezember2026_EF2.jpg
ORGANIZER;CN="Belinda Discothek":MAILTO:kontakt@belinda-discothek.de
END:VEVENT
BEGIN:VEVENT
DTSTART;TZID=Europe/Berlin:20260117T200000
DTEND;TZID=Europe/Berlin:20260118T020000
DTSTAMP:20260424T155808
CREATED:20251228T140916Z
LAST-MODIFIED:20251228T141025Z
UID:15858-1768680000-1768701600@belinda-discothek.de
SUMMARY:Modern Rock mit DJane Mo – Unter 30? Eintritt frei!
DESCRIPTION:Im Januar gibt’s für alle unter 30 bei allen Discoevents freien Eintritt. Wir wollen neuen Gästen die Chance geben\, die Belinda kennenzulernen\nLust auf eine ordentliche Portion Modern Rock? Dann bist du dieses Wochenende genau richtig! DJane Mo steht an den Decks und bringt mit einer kraftvollen Mischung aus Alternative und NuMetal die Tanzfläche zum Beben – von den 90ern bis heute.\nOb fette Gitarrenriffs\, treibende Beats oder Songs\, die direkt ins Blut gehen – hier bleibt niemand stillstehen. Egal\, ob du zu deinen alten Favoriten abgehst oder neue Tracks entdeckst\, die Playlist hat für jeden Rockfan etwas zu bieten. Und weil die Nacht lang wird\, gibt’s eine perfekte Mischung aus Klassikern\, Geheimtipps und aktuellen Krachern.\nAlso schnapp dir deine Freunde\, gönn dir ein kühles Getränk und sei bereit\, wenn es ab 20 Uhr heißt: Abrocken!
URL:https://belinda-discothek.de/event/modern-rock-mit-djane-mo-unter-30-eintritt-frei/
LOCATION:Discothek Belinda\, Backnanger Str. 78\, Sulzbach an der Murr\, 71560\, Deutschland
CATEGORIES:Disco-Veranstaltung
ATTACH;FMTTYPE=image/jpeg:https://belinda-discothek.de/wp-content/uploads/2025/12/Dezember2026_EF3.jpg
ORGANIZER;CN="Belinda Discothek":MAILTO:kontakt@belinda-discothek.de
END:VEVENT
BEGIN:VEVENT
DTSTART;TZID=Europe/Berlin:20260124T200000
DTEND;TZID=Europe/Berlin:20260125T020000
DTSTAMP:20260424T155808
CREATED:20251228T141314Z
LAST-MODIFIED:20251228T141314Z
UID:15861-1769284800-1769306400@belinda-discothek.de
SUMMARY:Rocknacht mit DJ Mogli – Unter 30? Eintritt frei!
DESCRIPTION:Im Januar gibt’s für alle unter 30 bei allen Discoevents freien Eintritt. Wir wollen neuen Gästen die Chance geben\, die Belinda kennenzulernen\nDJ Mogli bringt die Wände zum Wackeln – mit einer druckvollen Mischung aus Rock\, Deutschrock\, Grunge und Metal! \nWer auf fette Riffs\, ehrliche Texte und kompromisslosen Sound steht\, ist hier genau richtig. Keine halben Sachen\, keine Spielereien – sondern Songs\, die direkt unter die Haut gehen.\nDJ Mogli kennt sich aus mit ehrlichem Rock – und legt genau das auf\, was Fans wirklich feiern. Von Metallica bis Iron Maiden\, von Axel Rudi Pell bis Manowar – hier kommen die großen Gitarrenlegenden genauso zu ihrem Recht wie düstere Favoriten à la ASP oder Lacuna Coil.\nNatürlich dürfen auch Rammstein nicht fehlen – mit ihrer einzigartigen Mischung aus Härte\, Theatralik und purem Wahnsinn. Und wer auf modernen\, mitreißenden Sound steht\, bekommt mit Volbeat den perfekten Mix aus Rock’n’Roll und Metal direkt auf die Tanzfläche serviert.\nEgal\, ob du mit der Faust in der Luft headbangst\, lauthals mitsingst oder einfach den Bass spürst – dieser Abend wird dich packen. Moglis Set ist laut\, ehrlich und genau das\, was ein echter Rockabend sein sollte.\n#Rock #Deutschrock #Metal #Grunge #Volbeat #Rammstein #ASP #AxelRudiPell #Manowar #IronMaiden #Metallica #LacunaCoil #Rocknacht #BelindaRock #abrocken #HeadbangNight #DJMogli
URL:https://belinda-discothek.de/event/rocknacht-mit-dj-mogli-unter-30-eintritt-frei/
LOCATION:Discothek Belinda\, Backnanger Str. 78\, Sulzbach an der Murr\, 71560\, Deutschland
CATEGORIES:Disco-Veranstaltung
ATTACH;FMTTYPE=image/jpeg:https://belinda-discothek.de/wp-content/uploads/2025/12/Dezember2026_EF4.jpg
ORGANIZER;CN="Belinda Discothek":MAILTO:kontakt@belinda-discothek.de
END:VEVENT
END:VCALENDAR