BEGIN:VCALENDAR
VERSION:2.0
PRODID:-//Belinda Discothek - ECPv6.6.1//NONSGML v1.0//EN
CALSCALE:GREGORIAN
METHOD:PUBLISH
X-ORIGINAL-URL:https://belinda-discothek.de
X-WR-CALDESC:Veranstaltungen für Belinda Discothek
REFRESH-INTERVAL;VALUE=DURATION:PT1H
X-Robots-Tag:noindex
X-PUBLISHED-TTL:PT1H
BEGIN:VTIMEZONE
TZID:Europe/Berlin
BEGIN:DAYLIGHT
TZOFFSETFROM:+0100
TZOFFSETTO:+0200
TZNAME:CEST
DTSTART:20250330T010000
END:DAYLIGHT
BEGIN:STANDARD
TZOFFSETFROM:+0200
TZOFFSETTO:+0100
TZNAME:CET
DTSTART:20251026T010000
END:STANDARD
END:VTIMEZONE
BEGIN:VEVENT
DTSTART;TZID=Europe/Berlin:20251206T200000
DTEND;TZID=Europe/Berlin:20251207T020000
DTSTAMP:20260424T175744
CREATED:20251106T194533Z
LAST-MODIFIED:20251106T194533Z
UID:15705-1765051200-1765072800@belinda-discothek.de
SUMMARY:Ü30 mit DJ Andy
DESCRIPTION:Laut. Echt. Legendär. Die Belinda Ü30 mit DJ Andy!\nHier gibt’s keine Chart-Eintagsfliegen\, sondern handverlesene Rock-Hymnen und echte Klassiker! Von mitreißenden Gitarrenriffs bis zu Songs\, die jeder aus voller Kehle mitsingen kann – wir liefern den Soundtrack für eine unvergessliche Nacht.\nFür den perfekten Mix sorgt kein Geringerer als DJ Andy. Seit Jahren bringt er die Tanzfläche mit seinem Gespür für echte Rock-Perlen und zeitlose Hits zum Beben.\nTanze\, feiere und genieße die Musik\, die dich schon immer begleitet hat. Kein belangloses Gedudel\, sondern echter Sound mit Charakter.\nAber Achtung: Wer Discofox oder Eurodance erwartet\, wird bitter enttäuscht werden \nPack deine Freunde ein und erlebe eine Party\, die hält\, was sie verspricht. Rock on!\n#rock #samstagabend #disco #rockdisco #ü30 #ü30party #pop
URL:https://belinda-discothek.de/event/ue30-mit-dj-andy-4/
LOCATION:Discothek Belinda\, Backnanger Str. 78\, Sulzbach an der Murr\, 71560\, Deutschland
CATEGORIES:Disco-Veranstaltung
ATTACH;FMTTYPE=image/jpeg:https://belinda-discothek.de/wp-content/uploads/2025/11/Dezember2025_FB2-scaled.jpg
ORGANIZER;CN="Belinda Discothek":MAILTO:kontakt@belinda-discothek.de
END:VEVENT
BEGIN:VEVENT
DTSTART;TZID=Europe/Berlin:20251213T200000
DTEND;TZID=Europe/Berlin:20251214T020000
DTSTAMP:20260424T175744
CREATED:20251106T195525Z
LAST-MODIFIED:20251106T195840Z
UID:15707-1765656000-1765677600@belinda-discothek.de
SUMMARY:VermiXed nochmal mit DJ Ralf
DESCRIPTION:VermiXed nochmal ist eine Reise durch unterschiedliche Musikgenres auf die Euch DJ Ralf mitnehmen möchte.Neben dem für die Belinda bekannten Rock\, hat er #Breakbeats\, #Grunge\, #Mittelalter-Rock\, #Nu Metal\, #Pop\, #Reggae\, #Techno\, #NewWave\, HipHop\, Deutsch-Rock/Pop und sogar französische Songs mit im Gepäck.Für seinen abwechslungsreichen und erfrischenden Mix\, beginnend bei den 80ern\, über die 90er bis hin zu den aktuellen Charts ist er stets auf der Suche nach alten und neuen tanzbaren Kostbarkeiten aus der vielfältigen Welt der Musik.Frei nach der Band Hiss: “Du bist jung oder alt\, reich oder pleite\, Moslem oder Christ\, Hindu oder Heide\, grün oder blau\, schwarz oder weiß\, was ist gut für den Körper für die Seele und den Geist\, DER TANZ….”
URL:https://belinda-discothek.de/event/vermixed-nochmal-mit-dj-ralf-13/
LOCATION:Discothek Belinda\, Backnanger Str. 78\, Sulzbach an der Murr\, 71560\, Deutschland
CATEGORIES:Disco-Veranstaltung
ATTACH;FMTTYPE=image/jpeg:https://belinda-discothek.de/wp-content/uploads/2025/11/Dezember2025_FB3-scaled.jpg
ORGANIZER;CN="Belinda Discothek":MAILTO:kontakt@belinda-discothek.de
END:VEVENT
BEGIN:VEVENT
DTSTART;TZID=Europe/Berlin:20251224T220000
DTEND;TZID=Europe/Berlin:20251225T030000
DTSTAMP:20260424T175744
CREATED:20251107T125227Z
LAST-MODIFIED:20251107T125540Z
UID:15729-1766613600-1766631600@belinda-discothek.de
SUMMARY:Belinda X-Mas
DESCRIPTION:Keinen Bock auf #Heiligabend unterm Weihnachtsbaum im Wohnzimmer? Oder habt ihr “O Tannenbaum” so oft gehört\, dass euch die Ohren schon klingeln? Dann haben wir was für Euch: Belinda #X-Mas im Kessel!Statt Weihnachtsliedern erwartet Euch DJ Mogli mit knallharten Riffs\, mitreißenden Drums und Texten\, dass sogar der Weihnachtsmann seine Mütze vor ihnen zieht!Also\, packt eure Lederjacken und eure Luftgitarren aus und feiert mit uns eine garantiert NICHT “Stille Nacht”!!\n \nAb 22 Uhr sind wir für Euch da!\n \nNatürlich wird auch das Rockcafé oben offen sein und die Raucherbar ist auch besetzt.\nTickets online kaufen – und ohne Wartezeiten zum Feiern gehen: Tickets bei Eventfrog
URL:https://belinda-discothek.de/event/belinda-x-mas/
LOCATION:Discothek Belinda\, Backnanger Str. 78\, Sulzbach an der Murr\, 71560\, Deutschland
CATEGORIES:Disco-Veranstaltung
ATTACH;FMTTYPE=image/jpeg:https://belinda-discothek.de/wp-content/uploads/2025/11/Dezember2025_FB-1-scaled.jpg
ORGANIZER;CN="Belinda Discothek":MAILTO:kontakt@belinda-discothek.de
END:VEVENT
END:VCALENDAR