BEGIN:VCALENDAR
VERSION:2.0
PRODID:-//Belinda Discothek - ECPv6.6.1//NONSGML v1.0//EN
CALSCALE:GREGORIAN
METHOD:PUBLISH
X-ORIGINAL-URL:https://belinda-discothek.de
X-WR-CALDESC:Veranstaltungen für Belinda Discothek
REFRESH-INTERVAL;VALUE=DURATION:PT1H
X-Robots-Tag:noindex
X-PUBLISHED-TTL:PT1H
BEGIN:VTIMEZONE
TZID:Europe/Berlin
BEGIN:DAYLIGHT
TZOFFSETFROM:+0100
TZOFFSETTO:+0200
TZNAME:CEST
DTSTART:20250330T010000
END:DAYLIGHT
BEGIN:STANDARD
TZOFFSETFROM:+0200
TZOFFSETTO:+0100
TZNAME:CET
DTSTART:20251026T010000
END:STANDARD
END:VTIMEZONE
BEGIN:VEVENT
DTSTART;TZID=Europe/Berlin:20250927T150000
DTEND;TZID=Europe/Berlin:20250927T170000
DTSTAMP:20260424T054139
CREATED:20250919T153331Z
LAST-MODIFIED:20250919T153936Z
UID:15447-1758985200-1758992400@belinda-discothek.de
SUMMARY:Kinderdisco in der Belinda
DESCRIPTION:Wir laden euch ganz herzlich zu unserer nächsten Kinderdisco ein. Ihr habt jede Menge Lust auf Musik und Tanzen?Dann kommt auf jeden Fall vorbei!\nEs gibt natürlich wieder unser leckeres Popcorn\, Kindercocktails und gemeinsame Dance Moves. Wir freuen uns auf euch!\nEintritt auf Spendenbasis (Richtwert ~ 1\,50€ pro Kind)\nDer Erlös kommt der Erhaltung der Belinda Discothek zugute\n \n \nFür Kinder bis 13 Jahre. Die Aufsichtspflicht liegt während der gesamten Zeit bei den Erziehungsberechtigten.\n#kinderdisco\nNEU: VIP Geburtstags-Special! Du willst deinen Kindergeburtstag bei uns feiern? Kein Problem! Melde dich bitte bei Petra C.: christoph@akzente-gemeinde.\nVeranstalter:Akzente Förderverein e. V.Gefördert von der Aktion MenschUnter Mitwirkung der Akzente Gemeinde
URL:https://belinda-discothek.de/event/kinderdisco-in-der-belinda/
LOCATION:Discothek Belinda\, Backnanger Str. 78\, Sulzbach an der Murr\, 71560\, Deutschland
CATEGORIES:Disco-Veranstaltung,Konzerte/Events
ATTACH;FMTTYPE=image/jpeg:https://belinda-discothek.de/wp-content/uploads/2025/09/September2025_eventfrog6-scaled.jpg
END:VEVENT
END:VCALENDAR