BEGIN:VCALENDAR
VERSION:2.0
PRODID:-//Belinda Discothek - ECPv6.6.1//NONSGML v1.0//EN
CALSCALE:GREGORIAN
METHOD:PUBLISH
X-ORIGINAL-URL:https://belinda-discothek.de
X-WR-CALDESC:Veranstaltungen für Belinda Discothek
REFRESH-INTERVAL;VALUE=DURATION:PT1H
X-Robots-Tag:noindex
X-PUBLISHED-TTL:PT1H
BEGIN:VTIMEZONE
TZID:Europe/Berlin
BEGIN:DAYLIGHT
TZOFFSETFROM:+0100
TZOFFSETTO:+0200
TZNAME:CEST
DTSTART:20250330T010000
END:DAYLIGHT
BEGIN:STANDARD
TZOFFSETFROM:+0200
TZOFFSETTO:+0100
TZNAME:CET
DTSTART:20251026T010000
END:STANDARD
END:VTIMEZONE
BEGIN:VEVENT
DTSTART;TZID=Europe/Berlin:20251107T200000
DTEND;TZID=Europe/Berlin:20251108T020000
DTSTAMP:20260419T233439
CREATED:20251007T173708Z
LAST-MODIFIED:20251007T174055Z
UID:15516-1762545600-1762567200@belinda-discothek.de
SUMMARY:MAMA geht tanzen!
DESCRIPTION:Wir feiern die 2.Runde MAMAGEHTTANZEN in Sulzbach/Murr! \nZum zweiten Mal findet in Sulzbach an der Murr die MAMAGEHTTANZEN statt\, eine After-Care-Party von Mamas für Mamas\, Freundinnen\, Kolleginnen\, Schwestern..für ALLE Frauen\, die mal wieder feiern wollen wie früher – nur früher! Nutzt die erste Tiefschlafphase eures Kindes und tanzt mal wieder richtig mit uns ab. Glücklich und erfüllt gehst du nach 180 Minuten Me-Time mit deinen Freundinnen von der Tanzfläche!\nSichert euch ein Tickets unter:https://mamagehttanzen-aalen-sha.ticket.io/\n \nBitte beachtet: Männer sind nur in Begleitung von Frauen erlaubt (als Fahrer ;-))\n \nUnd wer noch nicht genug hat: ab 23 Uhr geht die Party einfach für alle weiter!
URL:https://belinda-discothek.de/event/mama-geht-tanzen-2/
LOCATION:Discothek Belinda\, Backnanger Str. 78\, Sulzbach an der Murr\, 71560\, Deutschland
CATEGORIES:Disco-Veranstaltung
ATTACH;FMTTYPE=image/jpeg:https://belinda-discothek.de/wp-content/uploads/2025/10/November2025_FB-scaled.jpg
END:VEVENT
END:VCALENDAR