BEGIN:VCALENDAR
VERSION:2.0
PRODID:-//Belinda Discothek - ECPv6.6.1//NONSGML v1.0//EN
CALSCALE:GREGORIAN
METHOD:PUBLISH
X-ORIGINAL-URL:https://belinda-discothek.de
X-WR-CALDESC:Veranstaltungen für Belinda Discothek
REFRESH-INTERVAL;VALUE=DURATION:PT1H
X-Robots-Tag:noindex
X-PUBLISHED-TTL:PT1H
BEGIN:VTIMEZONE
TZID:Europe/Berlin
BEGIN:DAYLIGHT
TZOFFSETFROM:+0100
TZOFFSETTO:+0200
TZNAME:CEST
DTSTART:20250330T010000
END:DAYLIGHT
BEGIN:STANDARD
TZOFFSETFROM:+0200
TZOFFSETTO:+0100
TZNAME:CET
DTSTART:20251026T010000
END:STANDARD
END:VTIMEZONE
BEGIN:VEVENT
DTSTART;TZID=Europe/Berlin:20251003T210000
DTEND;TZID=Europe/Berlin:20251004T020000
DTSTAMP:20260421T120456
CREATED:20250920T132422Z
LAST-MODIFIED:20250925T163905Z
UID:15454-1759525200-1759543200@belinda-discothek.de
SUMMARY:Silent Disco – Die Kopfhörerparty!
DESCRIPTION:Am Freitag den 3. Oktober verwandelt sich die Rockdiscothek Belinda in ein einzigartiges Tanz-Erlebnis: Unsere Silent Disco bringt die Musik direkt auf die Ohren – über Funkkopfhörer mit 3 Kanälen und eigener Lautstärkeregelung. So bestimmst du jederzeit selbst\, welchen DJ du hörst und wie intensiv du feiern willst. Ideal auch für alle\, denen eine klassische Disco manchmal zu laut ist. \nDrei DJs sorgen für ein abwechslungsreiches Programm: \n\n\nDJane Mo liefert Modern Rock mit frischen Sounds und energiegeladenen Beats. \n\n\nDJ Markus bringt Classic Rock aus den 70ern zurück – echte Klassiker\, die Erinnerungen wecken. \n\n\nDJ Ralf präsentiert bei „Vermixed nochmal“ einen bunten Mix: Rock\, Breakbeats\, Grunge\, Mittelalter-Rock\, Nu Metal\, Pop\, Reggae\, Techno\, New Wave\, HipHop\, Deutsch-Rock/Pop und sogar französische Songs. Von den 80ern über die 90er bis hin zu den aktuellen Charts – hier ist garantiert für jeden Musikgeschmack etwas dabei. \n\n\n👉 Damit wird die Tanzfläche zur lebendigen Mischung verschiedenster Stile. Jeder kann flexibel zwischen den DJs wechseln\, die Lautstärke anpassen und seinen eigenen perfekten Soundtrack für die Nacht gestalten. \n✨ Erlebt in der Belinda eine Silent Disco\, die nicht nur leiser\, sondern vor allem intensiver und abwechslungsreicher ist. Ob Rock-Fan\, Nostalgiker oder Partygänger – hier kommt jeder auf seine Kosten. \n🔊 Kopfhörer auf\, Kanal wählen\, Lautstärke einstellen und ab auf die Tanzfläche! \nDie Kopfhörer werden vor Ort für 10 € Pfand ausgegeben und nach der Rückgabe wieder erstattet.👉 Sei dabei und feiere mit uns diese besondere Kopfhörer-Party in der Belinda!
URL:https://belinda-discothek.de/event/silent-disco-die-kopfhoererparty/
LOCATION:Discothek Belinda\, Backnanger Str. 78\, Sulzbach an der Murr\, 71560\, Deutschland
CATEGORIES:Disco-Veranstaltung
ATTACH;FMTTYPE=image/jpeg:https://belinda-discothek.de/wp-content/uploads/2025/09/Oktober2025_FB-scaled.jpg
ORGANIZER;CN="Belinda Discothek":MAILTO:kontakt@belinda-discothek.de
END:VEVENT
BEGIN:VEVENT
DTSTART;TZID=Europe/Berlin:20251004T210000
DTEND;TZID=Europe/Berlin:20251005T020000
DTSTAMP:20260421T120456
CREATED:20250920T133825Z
LAST-MODIFIED:20250920T141121Z
UID:15463-1759611600-1759629600@belinda-discothek.de
SUMMARY:Ü30 mit DJ Andy
DESCRIPTION:Laut. Echt. Legendär. Die Belinda Ü30 mit DJ Andy! \nHier gibt’s keine Chart-Eintagsfliegen\, sondern handverlesene Rock-Hymnen und echte Klassiker! Von mitreißenden Gitarrenriffs bis zu Songs\, die jeder aus voller Kehle mitsingen kann – wir liefern den Soundtrack für eine unvergessliche Nacht.\nFür den perfekten Mix sorgt kein Geringerer als DJ Andy. Seit Jahren bringt er die Tanzfläche mit seinem Gespür für echte Rock-Perlen und zeitlose Hits zum Beben.\nTanze\, feiere und genieße die Musik\, die dich schon immer begleitet hat. Kein belangloses Gedudel\, sondern echter Sound mit Charakter.\nAber Achtung: Wer Discofox oder Eurodance erwartet\, wird bitter enttäuscht werden \nPack deine Freunde ein und erlebe eine Party\, die hält\, was sie verspricht. Rock on!\n#rock #samstagabend #disco #rockdisco #ü30 #ü30party #pop
URL:https://belinda-discothek.de/event/ue30-mit-dj-andy-3/
LOCATION:Discothek Belinda\, Backnanger Str. 78\, Sulzbach an der Murr\, 71560\, Deutschland
CATEGORIES:Disco-Veranstaltung
ATTACH;FMTTYPE=image/jpeg:https://belinda-discothek.de/wp-content/uploads/2025/09/Oktober2025_Eventfrog_FB2-scaled.jpg
ORGANIZER;CN="Belinda Discothek":MAILTO:kontakt@belinda-discothek.de
END:VEVENT
BEGIN:VEVENT
DTSTART;TZID=Europe/Berlin:20251007T210000
DTEND;TZID=Europe/Berlin:20251008T013000
DTSTAMP:20260421T120456
CREATED:20250925T152038Z
LAST-MODIFIED:20250925T152038Z
UID:15477-1759870800-1759887000@belinda-discothek.de
SUMMARY:Tuesday Rock mit DJ Dirk
DESCRIPTION:In den Baustellenjahren wurden wir oft von Euch gefragt: Wann macht Ihr endlich wieder am Dienstag auf? Viele haben wohl auch nicht mehr daran geglaubt\, weil wir Euch so lange vertrösten mussten. Aber endlich wird es wahr! Der Belinda Dienstag war immer Kult und nun ist er wieder da!Wir hoffen\, Ihr kommt zahlreich und feiert ordentlich!\nAm 7.10. ist DJ Dirk für Euch da! Von 21 – 1:30 Uhr darf dienstags wieder getanzt werden\, bei freiem Eintritt!
URL:https://belinda-discothek.de/event/tuesday-rock-mit-dj-dirk-4/
LOCATION:Discothek Belinda\, Backnanger Str. 78\, Sulzbach an der Murr\, 71560\, Deutschland
CATEGORIES:Disco-Veranstaltung
ATTACH;FMTTYPE=image/jpeg:https://belinda-discothek.de/wp-content/uploads/2025/09/Dienstage-Oktober_FB-scaled.jpg
ORGANIZER;CN="Belinda Discothek":MAILTO:kontakt@belinda-discothek.de
END:VEVENT
BEGIN:VEVENT
DTSTART;TZID=Europe/Berlin:20251010T200000
DTEND;TZID=Europe/Berlin:20251010T231500
DTSTAMP:20260421T120456
CREATED:20250916T103204Z
LAST-MODIFIED:20250919T093903Z
UID:15395-1760126400-1760138100@belinda-discothek.de
SUMMARY:Queen-Tribute-Konzert: UNDER PRESSURE
DESCRIPTION:„Under Pressure“ präsentiert die besten Songs aus der langen Musikgeschichte\, die Queen geschrieben hat. Über 50 Jahre stehen Queen nun schon auf der Bühne und auch wenn der Tod von Freddie Mercury eine große Lücke hinterlassen hat\, die Musik dieser großartigen Band lebt weiter. Eine Musik\, die Rock\, Pop\, Glamour\, Theatralik und Bombast in genialer Weise miteinander verwoben hat und aus dem Alltag vieler Menschen nicht wegzudenken ist. Wer hat nicht schon zu „We will rock you“ auf den Boden gestampft oder bei einem erfolgreichen Abschluss lauthals „We are the Champions“ mitgesungen? Wem hat an der Schwelle zum Erwachsenwerden nicht „Spread your wings“ eine tolle Zukunft versprochen und wer hat nicht schon zum coolen Bassriff von „Another one bites the Dust“ getanzt? „Under Pressure“ bieten weltberühmte Songs\, emotionale Momente\, ein wenig Nostalgie und die volle Rockdröhnung ganz ohne Hofzeremoniell.  \nTickets gibt es hier
URL:https://belinda-discothek.de/event/queen-tribute-konzert-under-pressure-fr-10-10-25-2000-uhr/
LOCATION:Discothek Belinda\, Backnanger Str. 78\, Sulzbach an der Murr\, 71560\, Deutschland
CATEGORIES:Konzerte/Events,Kultur im Kessel
ATTACH;FMTTYPE=image/jpeg:https://belinda-discothek.de/wp-content/uploads/2025/09/KiK_UnderPressure_2025.jpg
ORGANIZER;CN="Begegnungs- und Kulturzentrum Akzente UG":MAILTO:kontakt@belinda-discothek.de
END:VEVENT
BEGIN:VEVENT
DTSTART;TZID=Europe/Berlin:20251011T210000
DTEND;TZID=Europe/Berlin:20251012T020000
DTSTAMP:20260421T120456
CREATED:20250920T134226Z
LAST-MODIFIED:20250920T134226Z
UID:15465-1760216400-1760234400@belinda-discothek.de
SUMMARY:VermiXed nochmal mit DJ Ralf
DESCRIPTION:VermiXed nochmal ist eine Reise durch unterschiedliche Musikgenres auf die Euch DJ Ralf mitnehmen möchte.  \nNeben dem für die Belinda bekannten Rock\, hat er #Breakbeats\, #Grunge\, #Mittelalter-Rock\, #Nu Metal\, #Pop\, #Reggae\, #Techno\, #NewWave\, HipHop\, Deutsch-Rock/Pop und sogar französische Songs mit im Gepäck.  \nFür seinen abwechslungsreichen und erfrischenden Mix\, beginnend bei den 80ern\, über die 90er bis hin zu den aktuellen Charts ist er stets auf der Suche nach alten und neuen tanzbaren Kostbarkeiten aus der vielfältigen Welt der Musik.  \nFrei nach der Band Hiss: “Du bist jung oder alt\, reich oder pleite\, Moslem oder Christ\, Hindu oder Heide\, grün oder blau\, schwarz oder weiß\, was ist gut für den Körper für die Seele und den Geist\, DER TANZ….” 
URL:https://belinda-discothek.de/event/vermixed-nochmal-mit-dj-ralf-11/
LOCATION:Discothek Belinda\, Backnanger Str. 78\, Sulzbach an der Murr\, 71560\, Deutschland
CATEGORIES:Disco-Veranstaltung
ATTACH;FMTTYPE=image/jpeg:https://belinda-discothek.de/wp-content/uploads/2025/09/Oktober2025_Eventfrog_FB3-scaled.jpg
ORGANIZER;CN="Belinda Discothek":MAILTO:kontakt@belinda-discothek.de
END:VEVENT
BEGIN:VEVENT
DTSTART;TZID=Europe/Berlin:20251014T210000
DTEND;TZID=Europe/Berlin:20251015T013000
DTSTAMP:20260421T120456
CREATED:20250925T163711Z
LAST-MODIFIED:20250925T164202Z
UID:15483-1760475600-1760491800@belinda-discothek.de
SUMMARY:Tuesday Rock mit DJ Mogli
DESCRIPTION:In den Baustellenjahren wurden wir oft von Euch gefragt: Wann macht Ihr endlich wieder am Dienstag auf? Viele haben wohl auch nicht mehr daran geglaubt\, weil wir Euch so lange vertrösten mussten. Aber endlich wird es wahr! Der Belinda Dienstag war immer Kult und nun ist er wieder da!Wir hoffen\, Ihr kommt zahlreich und feiert ordentlich!\nDiesmal ist wieder DJ Mogli am Start! Von 21 Uhr bis 1:30 Uhr darf dienstags wieder getanzt werden\, bei freiem Eintritt!
URL:https://belinda-discothek.de/event/tuesday-rock-mit-dj-mogli-3/
LOCATION:Discothek Belinda\, Backnanger Str. 78\, Sulzbach an der Murr\, 71560\, Deutschland
CATEGORIES:Disco-Veranstaltung
ATTACH;FMTTYPE=image/jpeg:https://belinda-discothek.de/wp-content/uploads/2025/09/Dienstage-Oktober_FB2-scaled.jpg
ORGANIZER;CN="Belinda Discothek":MAILTO:kontakt@belinda-discothek.de
END:VEVENT
BEGIN:VEVENT
DTSTART;TZID=Europe/Berlin:20251017T200000
DTEND;TZID=Europe/Berlin:20251017T223000
DTSTAMP:20260421T120456
CREATED:20250916T104602Z
LAST-MODIFIED:20250919T094137Z
UID:15400-1760731200-1760740200@belinda-discothek.de
SUMMARY:Schwäbisches-Spacepop-Konzert: HASA - Heiners Allstar Attraction
DESCRIPTION:HASA – Heiners Allstar Attraction \nWie der Name erahnen lässt\, betreibt HASA  „umbenannte Raumfahrt“ und wartet mit Reggae\, Funk und Space-Balladen aus der süddeutschen Galaxie auf. Originell\, tanzbar und garantiert abgefahren! Sprachverspielte\, einfühlsame Songs\, aber auch virtuose Instrumentals steigen mittels der Urkraft des Elektrons in ungeahnte Höhen auf. Das schlägt sich in der Liebe zu facettenreicher Musik und multimedialer Inszenierung\, gewürzt mit feinsinnigem Humor\, und einem Hang zu handfester\, multimedialer Psychedelik nieder.\nPersönlich Erlebtes\, Erahntes und frei Erfundenes aus den schier unendlichen Weiten des Tübinger Umlands lässt sich mittels des lokalen Idioms durchaus poetisch vermitteln. Und für Auswärtige oder Aliens liefert HASAs „Verklickerer“ die Essenz der Lyrics auch in Echtzeit auf Englisch.\nHASA ist Gewinner des Kleinkunstpreises Baden-Württemberg 2022\, Fazit der Jury: „So erfrischend anders\, so perfekt und so gekonnt aus der Spur hängend!“ www.hasa.band.de \nTickets gibt es hier
URL:https://belinda-discothek.de/event/schwaebisches-spacepop-konzert-hasa-fr-17-10-25-2000-uhr/
LOCATION:Discothek Belinda\, Backnanger Str. 78\, Sulzbach an der Murr\, 71560\, Deutschland
CATEGORIES:Konzerte/Events,Kultur im Kessel
ATTACH;FMTTYPE=image/jpeg:https://belinda-discothek.de/wp-content/uploads/2025/09/HASA.jpg
ORGANIZER;CN="Begegnungs- und Kulturzentrum Akzente UG":MAILTO:kontakt@belinda-discothek.de
END:VEVENT
BEGIN:VEVENT
DTSTART;TZID=Europe/Berlin:20251018T210000
DTEND;TZID=Europe/Berlin:20251019T020000
DTSTAMP:20260421T120456
CREATED:20250920T134743Z
LAST-MODIFIED:20250920T141012Z
UID:15467-1760821200-1760839200@belinda-discothek.de
SUMMARY:Modern Rock mit DJane Mo
DESCRIPTION:Lust auf eine ordentliche Portion Modern Rock? Dann bist du dieses Wochenende genau richtig! DJane Mo steht an den Decks und bringt mit einer kraftvollen Mischung aus Alternative und NuMetal die Tanzfläche zum Beben – von den 90ern bis heute. \nOb fette Gitarrenriffs\, treibende Beats oder Songs\, die direkt ins Blut gehen – hier bleibt niemand stillstehen. Egal\, ob du zu deinen alten Favoriten abgehst oder neue Tracks entdeckst\, die Playlist hat für jeden Rockfan etwas zu bieten. Und weil die Nacht lang wird\, gibt’s eine perfekte Mischung aus Klassikern\, Geheimtipps und aktuellen Krachern. \nAlso schnapp dir deine Freunde\, gönn dir ein kühles Getränk und sei bereit\, wenn es ab 21 Uhr heißt: Abrocken! \n#modernrock #alternativerock #numetal #rocknight #90erbisheute #abrocken
URL:https://belinda-discothek.de/event/modern-rock-mit-djane-mo-6/
LOCATION:Discothek Belinda\, Backnanger Str. 78\, Sulzbach an der Murr\, 71560\, Deutschland
CATEGORIES:Disco-Veranstaltung
ATTACH;FMTTYPE=image/jpeg:https://belinda-discothek.de/wp-content/uploads/2025/09/Oktober2025_Eventfrog_FB4-scaled.jpg
ORGANIZER;CN="Belinda Discothek":MAILTO:kontakt@belinda-discothek.de
END:VEVENT
BEGIN:VEVENT
DTSTART;TZID=Europe/Berlin:20251019T180000
DTEND;TZID=Europe/Berlin:20251019T210000
DTSTAMP:20260421T120456
CREATED:20250920T130107Z
LAST-MODIFIED:20251009T093158Z
UID:15451-1760896800-1760907600@belinda-discothek.de
SUMMARY:Kultur im Kessel: Chris und Henni
DESCRIPTION:Ticket Platzreservierung: Geistliches Akustik-Konzert – CHRIS UND HENNI – So. 19.10.25 | 18:00 Uhr \nAm Sonntag\, 19. Oktober 2025 um 18 Uhr lädt Kultur im Kessel in die Belindadiscothek zu einem besonderen Konzert ein: Chris & Henni aus Bünde präsentieren geistlichen Deutschpop\, der unter die Haut geht. \nDas Songwriter-Duo verbindet Akustik-Pop mit elektrischen Folk-Vibes und schafft dabei eine Atmosphäre\, die gleichermaßen bewegt und Hoffnung schenkt. Ihre Songs handeln von den großen und kleinen Fragen des Lebens\, von schönen und schweren Momenten – und von der Hoffnung\, die bleibt. Mit handgemachter Musik und tiefgehenden Texten treffen sie direkt ins Herz\, um Freude zu schenken\, zum Nachdenken anzuregen oder einfach Licht in den Alltag zu bringen. \nSeit ihrer ersten Single „Liebe bleibt“ (2019)\, die beim Create Festival für singbare deutsche Songs Platz #1 belegte\, hat sich das Duo einen festen Platz in der Szene erspielt. Mit ihrem 2022 erschienenen Debütalbum „Wer will ich gewesen sein?“ tourten Chris & Henni deutschlandweit. Nach einer erfolgreichen Crowdfunding-Kampagne arbeiten sie aktuell am zweiten Album und geben auf der Bühne bereits erste Einblicke in neue Songs. \nDas Konzert am 19. Oktober bietet die Gelegenheit\, die beiden Künstler hautnah in einer intimen und besonderen Atmosphäre zu erleben. Der Eintritt ist frei\, um Spenden wird gebeten. \n✨ Ein Abend voller Gefühl\, Musik und Hoffnung – den sollte man nicht verpassen!
URL:https://belinda-discothek.de/event/kultur-im-kessel-chris-und-henni/
LOCATION:Discothek Belinda\, Backnanger Str. 78\, Sulzbach an der Murr\, 71560\, Deutschland
CATEGORIES:Konzerte/Events,Kultur im Kessel
ATTACH;FMTTYPE=image/jpeg:https://belinda-discothek.de/wp-content/uploads/2025/09/KiK_ChrisHenni_2025.jpg
END:VEVENT
BEGIN:VEVENT
DTSTART;TZID=Europe/Berlin:20251021T210000
DTEND;TZID=Europe/Berlin:20251022T013000
DTSTAMP:20260421T120456
CREATED:20250925T164038Z
LAST-MODIFIED:20250925T164206Z
UID:15489-1761080400-1761096600@belinda-discothek.de
SUMMARY:Tuesday Rock mit DJ Dirk
DESCRIPTION:In den Baustellenjahren wurden wir oft von Euch gefragt: Wann macht Ihr endlich wieder am Dienstag auf? Viele haben wohl auch nicht mehr daran geglaubt\, weil wir Euch so lange vertrösten mussten. Aber endlich wird es wahr! Der Belinda Dienstag war immer Kult und nun ist er wieder da!\nWir hoffen\, Ihr kommt zahlreich und feiert ordentlich! \nHeute ist DJ Dirk wieder dran! Von 21 Uhr bis 1:30 Uhr darf ab sofort dienstags wieder getanzt werden\, bei freiem Eintritt!
URL:https://belinda-discothek.de/event/tuesday-rock-mit-dj-dirk-5/
LOCATION:Discothek Belinda\, Backnanger Str. 78\, Sulzbach an der Murr\, 71560\, Deutschland
CATEGORIES:Disco-Veranstaltung
ATTACH;FMTTYPE=image/jpeg:https://belinda-discothek.de/wp-content/uploads/2025/09/Dienstage-Oktober_FB3-scaled.jpg
ORGANIZER;CN="Belinda Discothek":MAILTO:kontakt@belinda-discothek.de
END:VEVENT
BEGIN:VEVENT
DTSTART;TZID=Europe/Berlin:20251024T200000
DTEND;TZID=Europe/Berlin:20251024T233000
DTSTAMP:20260421T120456
CREATED:20250928T144343Z
LAST-MODIFIED:20251024T085003Z
UID:15496-1761336000-1761348600@belinda-discothek.de
SUMMARY:METALNACHT in der Belinda
DESCRIPTION:Ticket Platzreservierung: Metal-Night – DOWNFALL HORIZON\, VICIOUS BREWERY und ESCAPE THE LABYRINTH – Fr. 24.10.25 | 20:00 Uhr \nAm Freitag\, den 24. Oktober öffnet die Belinda ihre Türen für eine abwechslungsreiche Metalnacht mit drei spannenden Bands aus Süddeutschland. \nPLANÄNDERUNG!\nLeider mussten Neveira krankheitsbedingt absagen. Wir wünschen an dieser Stelle gute Besserung!\nAber: Absagen ist nicht!! Die Metalnight machen wir trotzdem! Unser Hannes hat es geschafft und kurzfristig noch 2 Bands organisiert: Vicious Brewery und Downfall Horizon aus SHA. Sie werden den Kessel einheizen!\n\nDownfall Horizon steht für einen kompromisslosen Sound\, der rohe Energie mit inhaltlicher Tiefe verbindet. Die vierköpfige Formation aus Schwäbisch Hall erschafft Klangwelten\, die zwischen melancholischer Schwere und aggressiver Wucht pendeln – stets getragen von treibenden Rhythmen\, markanten Gitarrenriffs und einer eindringlichen vokalen Präsenz.\nEscape The Labyrinth aus Murrhardt bringen modernen Metalcore auf die Bühne. Druckvolle Riffs\, harte Breaks und eingängige Refrains prägen ihren Sound\, der sich nicht an feste Schemata bindet und für frische Energie sorgt. \nDer Eintritt ist frei – die Bands freuen sich über Spenden.\nDas Konzert wird unterstützt durch die Initiative Musik im Programm der Beauftragten der Bundesregierung für Kultur und Medien. \n👉 Ein Abend\, der zeigt\, wie vielseitig und lebendig die regionale Metalszene ist. \nKommt vorbei\, erlebt drei tolle Bands aus der Region live und setzt gemeinsam ein Zeichen: Unterstützt kleine Live-Locations und gebt lokalen Künstlern die Bühne\, die sie verdienen!
URL:https://belinda-discothek.de/event/metalnacht-in-der-belinda/
LOCATION:Discothek Belinda\, Backnanger Str. 78\, Sulzbach an der Murr\, 71560\, Deutschland
CATEGORIES:Konzerte/Events,Kultur im Kessel
ATTACH;FMTTYPE=image/jpeg:https://belinda-discothek.de/wp-content/uploads/2025/09/570162459_1246285340636702_4711264638101054092_n.jpg
ORGANIZER;CN="Begegnungs- und Kulturzentrum Akzente UG":MAILTO:kontakt@belinda-discothek.de
END:VEVENT
BEGIN:VEVENT
DTSTART;TZID=Europe/Berlin:20251025T210000
DTEND;TZID=Europe/Berlin:20251026T020000
DTSTAMP:20260421T120456
CREATED:20250920T135214Z
LAST-MODIFIED:20250920T135214Z
UID:15469-1761426000-1761444000@belinda-discothek.de
SUMMARY:Rocknacht mit DJ Mogli
DESCRIPTION:DJ Mogli bringt die Wände zum Wackeln – mit einer druckvollen Mischung aus Rock\, Deutschrock\, Grunge und Metal! 🤘 \nWer auf fette Riffs\, ehrliche Texte und kompromisslosen Sound steht\, ist hier genau richtig. Keine halben Sachen\, keine Spielereien – sondern Songs\, die direkt unter die Haut gehen. \nDJ Mogli kennt sich aus mit ehrlichem Rock – und legt genau das auf\, was Fans wirklich feiern. Von Metallica bis Iron Maiden\, von Axel Rudi Pell bis Manowar – hier kommen die großen Gitarrenlegenden genauso zu ihrem Recht wie düstere Favoriten à la ASP oder Lacuna Coil. \nNatürlich dürfen auch Rammstein nicht fehlen – mit ihrer einzigartigen Mischung aus Härte\, Theatralik und purem Wahnsinn. Und wer auf modernen\, mitreißenden Sound steht\, bekommt mit Volbeat den perfekten Mix aus Rock’n’Roll und Metal direkt auf die Tanzfläche serviert. \nEgal\, ob du mit der Faust in der Luft headbangst\, lauthals mitsingst oder einfach den Bass spürst – dieser Abend wird dich packen. Moglis Set ist laut\, ehrlich und genau das\, was ein echter Rockabend sein sollte. \n#Rock #Deutschrock #Metal #Grunge #Volbeat #Rammstein #ASP #AxelRudiPell #Manowar #IronMaiden #Metallica #LacunaCoil #Rocknacht #BelindaRock #abrocken #HeadbangNight #DJMogli
URL:https://belinda-discothek.de/event/rocknacht-mit-dj-mogli-7/
LOCATION:Discothek Belinda\, Backnanger Str. 78\, Sulzbach an der Murr\, 71560\, Deutschland
CATEGORIES:Disco-Veranstaltung
ATTACH;FMTTYPE=image/jpeg:https://belinda-discothek.de/wp-content/uploads/2025/09/Oktober2025_Eventfrog_FB5-scaled.jpg
ORGANIZER;CN="Belinda Discothek":MAILTO:kontakt@belinda-discothek.de
END:VEVENT
BEGIN:VEVENT
DTSTART;TZID=Europe/Berlin:20251028T210000
DTEND;TZID=Europe/Berlin:20251029T013000
DTSTAMP:20260421T120456
CREATED:20250925T164403Z
LAST-MODIFIED:20250925T164403Z
UID:15491-1761685200-1761701400@belinda-discothek.de
SUMMARY:Tuesday Rock
DESCRIPTION:In den Baustellenjahren wurden wir oft von Euch gefragt: Wann macht Ihr endlich wieder am Dienstag auf? Viele haben wohl auch nicht mehr daran geglaubt\, weil wir Euch so lange vertrösten mussten. Aber endlich wird es wahr! Der Belinda Dienstag war immer Kult und nun ist er wieder da!Wir hoffen\, Ihr kommt zahlreich und feiert ordentlich!\nVon 21 Uhr bis 1:30 Uhr darf ab sofort dienstags wieder getanzt werden\, bei freiem Eintritt!
URL:https://belinda-discothek.de/event/tuesday-rock/
LOCATION:Discothek Belinda\, Backnanger Str. 78\, Sulzbach an der Murr\, 71560\, Deutschland
CATEGORIES:Disco-Veranstaltung
ATTACH;FMTTYPE=image/jpeg:https://belinda-discothek.de/wp-content/uploads/2025/09/Dienstage-Oktober_FB4-scaled.jpg
ORGANIZER;CN="Belinda Discothek":MAILTO:kontakt@belinda-discothek.de
END:VEVENT
BEGIN:VEVENT
DTSTART;TZID=Europe/Berlin:20251031T210000
DTEND;TZID=Europe/Berlin:20251101T020000
DTSTAMP:20260421T120456
CREATED:20250920T140805Z
LAST-MODIFIED:20250920T140805Z
UID:15472-1761944400-1761962400@belinda-discothek.de
SUMMARY:Halloween-Party im Hexenkessel mit DJ Duo Double Trouble
DESCRIPTION:Am 31. Oktober 2025 verwandelt sich unsere Rockdiscothek Belinda wieder in einen echten Hexenkessel. Inspiriert vom alten Braukessel vor unserer Tür sorgt unser Team für eine schaurig-schöne Atmosphäre: Mit viel Liebe zum Detail wird die Belinda in eine gruselige Gruft voller düsterer Stimmung\, mystischem Licht und passender Halloween-Deko getaucht. \nFür die richtige Partystimmung sorgt diesmal das DJ-Duo Double Trouble. Bekannt für ihre energiegeladenen Sets aus Rock\, Metal\, NuMetal und Punk\, überraschen sie ihre Gäste auch gerne mal mit Songs aus der „zweiten Reihe“\, die jeder noch nicht erwartet hat. 🎶🕸 \nOb Zombie\, Vampir\, Dämon\, Hexe oder andere Kreatur der Nacht – alle sind herzlich eingeladen\, bei uns zu feiern\, zu tanzen und die Nacht des Schreckens unvergesslich zu machen. \n👉 Also: Kostüm an\, Freunde schnappen und rein in den Halloween-Hexenkessel der Belinda!\nWir freuen uns auf euch! 🕷🦇
URL:https://belinda-discothek.de/event/halloween-party-im-hexenkessel-mit-dj-duo-double-trouble/
LOCATION:Discothek Belinda\, Backnanger Str. 78\, Sulzbach an der Murr\, 71560\, Deutschland
CATEGORIES:Disco-Veranstaltung
ATTACH;FMTTYPE=image/jpeg:https://belinda-discothek.de/wp-content/uploads/2025/09/Oktober2025_Eventfrog_FB6-scaled.jpg
ORGANIZER;CN="Belinda Discothek":MAILTO:kontakt@belinda-discothek.de
END:VEVENT
END:VCALENDAR