BEGIN:VCALENDAR
VERSION:2.0
PRODID:-//Belinda Discothek - ECPv6.6.1//NONSGML v1.0//EN
CALSCALE:GREGORIAN
METHOD:PUBLISH
X-ORIGINAL-URL:https://belinda-discothek.de
X-WR-CALDESC:Veranstaltungen für Belinda Discothek
REFRESH-INTERVAL;VALUE=DURATION:PT1H
X-Robots-Tag:noindex
X-PUBLISHED-TTL:PT1H
BEGIN:VTIMEZONE
TZID:Europe/Berlin
BEGIN:DAYLIGHT
TZOFFSETFROM:+0100
TZOFFSETTO:+0200
TZNAME:CEST
DTSTART:20250330T010000
END:DAYLIGHT
BEGIN:STANDARD
TZOFFSETFROM:+0200
TZOFFSETTO:+0100
TZNAME:CET
DTSTART:20251026T010000
END:STANDARD
END:VTIMEZONE
BEGIN:VEVENT
DTSTART;TZID=Europe/Berlin:20250425T080000
DTEND;TZID=Europe/Berlin:20250425T170000
DTSTAMP:20260425T140400
CREATED:20250425T162953Z
LAST-MODIFIED:20250425T163030Z
UID:14957-1745568000-1745600400@belinda-discothek.de
SUMMARY:VermiXed nochmal mit DJ Ralf
DESCRIPTION:VermiXed nochmal ist eine Reise durch unterschiedliche Musikgenres auf die Euch DJ Ralf mitnehmen möchte. \nNeben dem für die Belinda bekannten Rock\, hat er #Breakbeats\, #Grunge\, #Mittelalter-Rock\, #Nu Metal\, #Pop\, #Reggae\, #Techno\, #NewWave\, HipHop\, Deutsch-Rock/Pop und sogar französische Songs mit im Gepäck. \nFür seinen abwechslungsreichen und erfrischenden Mix\, beginnend bei den 80ern\, über die 90er bis hin zu den aktuellen Charts ist er stets auf der Suche nach alten und neuen tanzbaren Kostbarkeiten aus der vielfältigen Welt der Musik. \nFrei nach der Band Hiss: “Du bist jung oder alt\, reich oder pleite\, Moslem oder Christ\, Hindu oder Heide\, grün oder blau\, schwarz oder weiß\, was ist gut für den Körper für die Seele und den Geist\, DER TANZ….”
URL:https://belinda-discothek.de/event/vermixed-nochmal-mit-dj-ralf-7/
CATEGORIES:Disco-Veranstaltung
ATTACH;FMTTYPE=image/jpeg:https://belinda-discothek.de/wp-content/uploads/2025/04/Juni_2025_1200x6283-scaled.jpg
END:VEVENT
BEGIN:VEVENT
DTSTART;TZID=Europe/Berlin:20250426T130000
DTEND;TZID=Europe/Berlin:20250426T180000
DTSTAMP:20260425T140400
CREATED:20250103T141329Z
LAST-MODIFIED:20250103T141329Z
UID:13938-1745672400-1745690400@belinda-discothek.de
SUMMARY:Offener Spieletreff im Belinda Rockcafé
DESCRIPTION:AB SOFORT JEDEN MONAT!\nSeit über einem Jahr fand unser Spieletreff alle 2 Monate statt. Wir freuen uns sehr\, dass er so gut angenommen wurde!Nun hat sich ein weiterer Mitstreiter gefunden\, sodass wir den Spieletreff jeden Monat anbieten können \nLust auf ein paar Stunden Spaß und Abenteuer? Dann kommt zu unserem #Spieletreff im Rockcafé der Belinda Discothek und taucht ein in die Brettspielwelten. Lernt Spiele jenseits von Monopoly und Tabu kennen\, trefft nette Leute und habt jede Menge Spaß!\nEs erwarten Euch Brett- und #Gesellschaftsspiele in gemütlicher Atmosphäre.\nHabt ihr zuhause #Spiele\, aber euch fehlen die #Mitspieler? Dann bringt eure eigenen #Brettspiele mit und lernt neue Leute kennen!\nSpieler ab 16 Jahren sind herzlich willkommen. Getränke können vor Ort gekauft werden\, die Veranstaltung selbst ist kostenlos\, da wir den Raum vom Begegnungs- u. Kulturzentrum Sulzbach umsonst nutzen dürfen.\nWo ist das Belinda Rockcafé? Im selben Gebäude wie die Belinda Discothek\, geht einfach die Treppe hoch und am Gebäude entlang. \n 
URL:https://belinda-discothek.de/event/offener-spieletreff-im-belinda-rockcafe-7/
LOCATION:Belinda Rockcafé\, Schloßgasse 17\, Sulzbach an der Murr\, 71560
CATEGORIES:Rockcafé
ATTACH;FMTTYPE=image/jpeg:https://belinda-discothek.de/wp-content/uploads/2025/01/Spieletreff_20254-scaled.jpg
ORGANIZER;CN="Begegnungs- und Kulturzentrum Akzente UG":MAILTO:kontakt@belinda-discothek.de
END:VEVENT
BEGIN:VEVENT
DTSTART;TZID=Europe/Berlin:20250426T210000
DTEND;TZID=Europe/Berlin:20250427T020000
DTSTAMP:20260425T140400
CREATED:20250130T152602Z
LAST-MODIFIED:20250130T152602Z
UID:14358-1745701200-1745719200@belinda-discothek.de
SUMMARY:Rock through the ages mit DJ Duo Double Trouble
DESCRIPTION:DJ Moglis Rocknacht wäre eigentlich diesen Samstag dran – da er aber letzte Woche schon für DJane Mo eingesprungen ist\, übernehmen diesmal Double Trouble das DJ-Pult!\nAls langjährige Belinda-Fans seit den 90ern nehmen sie euch mit auf eine Reise durch 50 Jahre Belinda-Rockgeschichte – von verborgenen Schätzen bis zu legendären Hymnen.\nIhre Leidenschaft sind Schätze der #Rockmusik\, die man nicht ständig im Radio hört. Genauso feiern sie aber die großen und kleinen Klassiker und sind immer auf der Suche nach Geheimtipps und aktuellen Songs mit Potenzial zum Abrocken.\nDas wird ein Abend zum alte Lieblingslieder wiederentdecken und neue finden! Bereitet euch auf eine epische Zeitreise durch die Welt des #ClassicRock\, #Punkrock\, #Deutschrock\, #Metal\, #Grunge und #NuMetal vor.\nAb auf die Tanzfläche!\n \n#70er #80er #90er #2000er #2010er #2020er
URL:https://belinda-discothek.de/event/rock-through-the-ages-mit-dj-duo-double-trouble-2/
LOCATION:Discothek Belinda\, Backnanger Str. 78\, Sulzbach an der Murr\, 71560\, Deutschland
CATEGORIES:Disco-Veranstaltung
ATTACH;FMTTYPE=image/jpeg:https://belinda-discothek.de/wp-content/uploads/2025/01/April_2025_1200x6286-scaled.jpg
ORGANIZER;CN="Belinda Discothek":MAILTO:kontakt@belinda-discothek.de
END:VEVENT
BEGIN:VEVENT
DTSTART;TZID=Europe/Berlin:20250430T210000
DTEND;TZID=Europe/Berlin:20250501T020000
DTSTAMP:20260425T140400
CREATED:20250130T153123Z
LAST-MODIFIED:20250130T153123Z
UID:14360-1746046800-1746064800@belinda-discothek.de
SUMMARY:Rock in den Mai mit DJ Mogli
DESCRIPTION:Vergesst den klassischen Tanz in den Mai – hier wird gerockt! 🤘 DJ Mogli bringt euch mit einer fetten Mischung aus Rock\, Deutschrock\, Grunge und Metal durch die Nacht und sorgt dafür\, dass der Mai mit ordentlich Wumms beginnt. \nEr packt die besten Hymnen\, versteckte Perlen und echte Kracher aus\, die euch garantiert in Bewegung halten. Keine halben Sachen – nur echter Sound für echte Rockfans! \nSeid dabei\, wenn wir gemeinsam die Tanzfläche zum Beben bringen und den Mai mit Vollgas begrüßen! Rock On!
URL:https://belinda-discothek.de/event/rock-in-den-mai-mit-dj-mogli-2/
LOCATION:Discothek Belinda\, Backnanger Str. 78\, Sulzbach an der Murr\, 71560\, Deutschland
CATEGORIES:Disco-Veranstaltung
ATTACH;FMTTYPE=image/jpeg:https://belinda-discothek.de/wp-content/uploads/2025/01/April_2025_1200x6287-scaled.jpg
ORGANIZER;CN="Belinda Discothek":MAILTO:kontakt@belinda-discothek.de
END:VEVENT
END:VCALENDAR