BEGIN:VCALENDAR
VERSION:2.0
PRODID:-//Belinda Discothek - ECPv6.6.1//NONSGML v1.0//EN
CALSCALE:GREGORIAN
METHOD:PUBLISH
X-ORIGINAL-URL:https://belinda-discothek.de
X-WR-CALDESC:Veranstaltungen für Belinda Discothek
REFRESH-INTERVAL;VALUE=DURATION:PT1H
X-Robots-Tag:noindex
X-PUBLISHED-TTL:PT1H
BEGIN:VTIMEZONE
TZID:Europe/Berlin
BEGIN:DAYLIGHT
TZOFFSETFROM:+0100
TZOFFSETTO:+0200
TZNAME:CEST
DTSTART:20250330T010000
END:DAYLIGHT
BEGIN:STANDARD
TZOFFSETFROM:+0200
TZOFFSETTO:+0100
TZNAME:CET
DTSTART:20251026T010000
END:STANDARD
END:VTIMEZONE
BEGIN:VEVENT
DTSTART;TZID=Europe/Berlin:20251121T080000
DTEND;TZID=Europe/Berlin:20251121T170000
DTSTAMP:20260423T120825
CREATED:20251121T155722Z
LAST-MODIFIED:20251121T155722Z
UID:15779-1763712000-1763744400@belinda-discothek.de
SUMMARY:Tuesday Rock mit DJ Mogli
DESCRIPTION:In den Baustellenjahren wurden wir oft von Euch gefragt: Wann macht Ihr endlich wieder am Dienstag auf? Viele haben wohl auch nicht mehr daran geglaubt\, weil wir Euch so lange vertrösten mussten. Aber endlich wird es wahr! Der Belinda Dienstag war immer Kult und nun ist er wieder da!\nWir hoffen\, Ihr kommt zahlreich und feiert ordentlich!\nVon 21 Uhr bis 1:30 Uhr darf ab sofort dienstags wieder getanzt werden\, bei freiem Eintritt! \nDJ Mogli rockt Euch an diesem Abend!
URL:https://belinda-discothek.de/event/tuesday-rock-mit-dj-mogli-4/
CATEGORIES:Disco-Veranstaltung
ATTACH;FMTTYPE=image/jpeg:https://belinda-discothek.de/wp-content/uploads/2025/11/Dienstage-Oktober_FB-scaled.jpg
END:VEVENT
BEGIN:VEVENT
DTSTART;TZID=Europe/Berlin:20251121T200000
DTEND;TZID=Europe/Berlin:20251121T200000
DTSTAMP:20260423T120825
CREATED:20251016T200946Z
LAST-MODIFIED:20251028T174125Z
UID:15590-1763755200-1763755200@belinda-discothek.de
SUMMARY:Rockkonzert mit Frauenpower: GRACEFIRE - mit After-Show-Party
DESCRIPTION:Die Rockband mit Frauenpower vereint den kraftvollen Rock der 70er- und 80er-Jahre mit moderner Energie – leidenschaftlich\, energiegeladen und ungefiltert. An der Front stehen Sängerin Nicole Zeyda\, Gitarristin Diana Höttermann und Schlagzeugerin Annika Allinger\, unterstützt von Simon Jokschas am Bass.\n2025 feiern Gracefire ihr 10-jähriges Bandjubiläum und krönen dieses durch eine Kanada-Tour vor begeistertem Publikum. Passend dazu haben brandneue Songs im Gepäck. Die neue EP bringt frischen Wind in den Gracefire-Sound: Gelegentliche elektronische Beats und Synthesizer setzen moderne Nuancen\, die perfekt mit dem kernigen Rockcharakter der Band harmonieren.\nMit über 200 Konzerten\, einer erfolgreichen Europatour sowie Support-Shows haben sich Gracefire längst weit über die Grenzen Stuttgarts hinaus einen Namen gemacht.\nSchon ihr Debütalbum Trapped in Society (2021) zeigt die ganze Bandbreite – von treibenden Rocksongs\, bis zu tiefgehenden Balladen.\nDie Texte von Nicole Zeyda und Diana Höttermann erzählen Geschichten mitten aus dem Leben – mal rebellisch\, mal verletzlich\, immer authentisch. Gracefire liefern energiegeladene Shows\, die das Publikum mitreißen und begeistern. www.gracefire.de\n\n \nTickets gibt es bei EVENTFROG \n \n 
URL:https://belinda-discothek.de/event/rockkonzert-mit-frauenpower-gracefire-mit-after-show-party-fr-21-11-25-2000-uhr/
LOCATION:Discothek Belinda\, Backnanger Str. 78\, Sulzbach an der Murr\, 71560\, Deutschland
CATEGORIES:Konzerte/Events,Kultur im Kessel
ATTACH;FMTTYPE=image/jpeg:https://belinda-discothek.de/wp-content/uploads/2025/10/KiK_Gracefire_2025-1.jpg
ORGANIZER;CN="Begegnungs- und Kulturzentrum Akzente UG":MAILTO:kontakt@belinda-discothek.de
END:VEVENT
END:VCALENDAR