BEGIN:VCALENDAR
VERSION:2.0
PRODID:-//Belinda Discothek - ECPv6.6.1//NONSGML v1.0//EN
CALSCALE:GREGORIAN
METHOD:PUBLISH
X-WR-CALNAME:Belinda Discothek
X-ORIGINAL-URL:https://belinda-discothek.de
X-WR-CALDESC:Veranstaltungen für Belinda Discothek
REFRESH-INTERVAL;VALUE=DURATION:PT1H
X-Robots-Tag:noindex
X-PUBLISHED-TTL:PT1H
BEGIN:VTIMEZONE
TZID:Europe/Berlin
BEGIN:DAYLIGHT
TZOFFSETFROM:+0100
TZOFFSETTO:+0200
TZNAME:CEST
DTSTART:20250330T010000
END:DAYLIGHT
BEGIN:STANDARD
TZOFFSETFROM:+0200
TZOFFSETTO:+0100
TZNAME:CET
DTSTART:20251026T010000
END:STANDARD
END:VTIMEZONE
BEGIN:VEVENT
DTSTART;TZID=Europe/Berlin:20251115T200000
DTEND;TZID=Europe/Berlin:20251116T020000
DTSTAMP:20260421T120125
CREATED:20251013T184702Z
LAST-MODIFIED:20251019T191453Z
UID:15584-1763236800-1763258400@belinda-discothek.de
SUMMARY:Modern Rock mit DJane Mo
DESCRIPTION:ACHTUNG ab November öffnen wir wieder um 20 Uhr! \nLust auf eine ordentliche Portion Modern Rock? Dann bist du dieses Wochenende genau richtig! DJane Mo steht an den Decks und bringt mit einer kraftvollen Mischung aus Alternative und NuMetal die Tanzfläche zum Beben – von den 90ern bis heute. \nOb fette Gitarrenriffs\, treibende Beats oder Songs\, die direkt ins Blut gehen – hier bleibt niemand stillstehen. Egal\, ob du zu deinen alten Favoriten abgehst oder neue Tracks entdeckst\, die Playlist hat für jeden Rockfan etwas zu bieten. Und weil die Nacht lang wird\, gibt’s eine perfekte Mischung aus Klassikern\, Geheimtipps und aktuellen Krachern. \nAlso schnapp dir deine Freunde\, gönn dir ein kühles Getränk und sei bereit\, wenn es ab 21 Uhr heißt: Abrocken! \n#modernrock #alternativerock #numetal #rocknight #90erbisheute #abrocken
URL:https://belinda-discothek.de/event/modern-rock-mit-djane-mo-7/
LOCATION:Discothek Belinda\, Backnanger Str. 78\, Sulzbach an der Murr\, 71560\, Deutschland
CATEGORIES:Disco-Veranstaltung
ATTACH;FMTTYPE=image/jpeg:https://belinda-discothek.de/wp-content/uploads/2025/10/November2025_FB3-scaled.jpg
ORGANIZER;CN="Belinda Discothek":MAILTO:kontakt@belinda-discothek.de
END:VEVENT
END:VCALENDAR