BEGIN:VCALENDAR
VERSION:2.0
PRODID:-//Belinda Discothek - ECPv6.6.1//NONSGML v1.0//EN
CALSCALE:GREGORIAN
METHOD:PUBLISH
X-ORIGINAL-URL:https://belinda-discothek.de
X-WR-CALDESC:Veranstaltungen für Belinda Discothek
REFRESH-INTERVAL;VALUE=DURATION:PT1H
X-Robots-Tag:noindex
X-PUBLISHED-TTL:PT1H
BEGIN:VTIMEZONE
TZID:Europe/Berlin
BEGIN:DAYLIGHT
TZOFFSETFROM:+0100
TZOFFSETTO:+0200
TZNAME:CEST
DTSTART:20250330T010000
END:DAYLIGHT
BEGIN:STANDARD
TZOFFSETFROM:+0200
TZOFFSETTO:+0100
TZNAME:CET
DTSTART:20251026T010000
END:STANDARD
END:VTIMEZONE
BEGIN:VEVENT
DTSTART;TZID=Europe/Berlin:20250919T200000
DTEND;TZID=Europe/Berlin:20250919T233000
DTSTAMP:20260423T135850
CREATED:20250831T135857Z
LAST-MODIFIED:20250919T094227Z
UID:15311-1758312000-1758324600@belinda-discothek.de
SUMMARY:The Jack – AC/DC Cover aus Stuttgart
DESCRIPTION:Wenn The Jack die Bühne der Belinda Discothek betreten\, bebt der Saal. Mit donnernden Riffs\, ungebändigter Energie und einer Show\, die vom ersten Akkord an zündet\, katapultieren die Stuttgarter ihr Publikum mitten hinein in die Welt von AC/DC. Kein Schnickschnack\, kein Kompromiss – nur purer Rock’n’Roll.\nIm Rahmen des Programms „Kultur im Kessel“ haben The Jack schon mehrfach das Publikum begeistert und bewiesen\, warum sie zu den besten AC/DC-Tribute-Bands des Landes zählen. Ob Festivalbühne\, Straßenfest oder Club – sie bringen den unverwechselbaren Sound und die rohe Power der Rock-Legenden kompromisslos auf jede Bühne.\nTickets gibt es bei Eventfrog zum VVK oder zum Preis von 17 Euro an der Abendkasse.\n \nTICKETLINK
URL:https://belinda-discothek.de/event/the-jack-ac-dc-cover-aus-stuttgart/
LOCATION:Discothek Belinda\, Backnanger Str. 78\, Sulzbach an der Murr\, 71560\, Deutschland
CATEGORIES:Konzerte/Events,Kultur im Kessel
ATTACH;FMTTYPE=image/jpeg:https://belinda-discothek.de/wp-content/uploads/2025/08/KiK_TheJack-2025.jpg
ORGANIZER;CN="Begegnungs- und Kulturzentrum Akzente UG":MAILTO:kontakt@belinda-discothek.de
END:VEVENT
END:VCALENDAR