BEGIN:VCALENDAR
VERSION:2.0
PRODID:-//Belinda Discothek - ECPv6.6.1//NONSGML v1.0//EN
CALSCALE:GREGORIAN
METHOD:PUBLISH
X-ORIGINAL-URL:https://belinda-discothek.de
X-WR-CALDESC:Veranstaltungen für Belinda Discothek
REFRESH-INTERVAL;VALUE=DURATION:PT1H
X-Robots-Tag:noindex
X-PUBLISHED-TTL:PT1H
BEGIN:VTIMEZONE
TZID:Europe/Berlin
BEGIN:DAYLIGHT
TZOFFSETFROM:+0100
TZOFFSETTO:+0200
TZNAME:CEST
DTSTART:20250330T010000
END:DAYLIGHT
BEGIN:STANDARD
TZOFFSETFROM:+0200
TZOFFSETTO:+0100
TZNAME:CET
DTSTART:20251026T010000
END:STANDARD
END:VTIMEZONE
BEGIN:VEVENT
DTSTART;TZID=Europe/Berlin:20250910T200000
DTEND;TZID=Europe/Berlin:20250914T190000
DTSTAMP:20260423T135931
CREATED:20250825T171403Z
LAST-MODIFIED:20250825T171403Z
UID:15295-1757534400-1757876400@belinda-discothek.de
SUMMARY:Sommerfest rund um die Belinda
DESCRIPTION:Auch dieses Jahr feiert der Akzente Förderverein e.V. die Erhaltung des Belinda-Areals mit einem Sommerfest für alle Generationen! Freut Euch auf tolle Konzert- und Discoabende\, viel Spaß & Spiel für Kinder\, gemütliches Beisammensein bei Essen & Trinken und chillen bei Cocktails in der Summer Lounge! \nDie Erlöse des Sommerfestes fließen ausschließlich in die Sanierungs- und Umbaumaßnahmen! \nDas Areal rund um die Belinda wird zum Outdoor-Spielplatz mit Riesen-­Dino-Rutsche und Kids Zone\, die zu einem familienfreundlichen Kostenbeitrag angeboten werden.\nDie Einnahmen hieraus kommen der Kinder- und Jugend­arbeit zugute. \nDie Sommer Lounge!\nMacht es euch gemütlich in Liege­stühlen & auf Paletten­­möbeln\, genießt erfrischende Drinks an unserer Cocktail­bar und lasst einfach die Seele baumeln. Die perfekte Ecke zum ­Chillen\, ­Quatschen und Sommer genießen! \nDonnerstag\, 11. September 2025 ab 20 Uhr\nCountryrock-Konzert mit Bee & The Richtones \n \nFreitag\, 12. September 2025 ab 20 Uhr \n70er Glam\, Funk & Rock Konzert mit Sonic Love \n \nSamstag\, 13. September 2025\nab 14 Uhr Bewirtung im Hof\, Kaffee & ­Kuchen im Belinda Rockcafé\nab 15 Uhr in der BelindaNEWCOMER AFTERNOON Konzert mit Yours\, Jeany; CaFinta und Full of Doubts \n \nab 15 Uhr Kids Zone & Dino-Rutsche im Hof Cocktailbar + Summer Lounge vor dem Rockcafé\nab 21 Uhr Belinda History-Party mit DJane Mo \nSonntag\, 14. September 2025\nab 10 Uhr Weißwurstfrühstück im Hof\nab 12 Uhr Bewirtung im Hof\, Kids Zone & Dino-Rutsche im Hof\nab 14 Uhr Kaffee & ­Kuchen im Rockcafé\nab 15 Uhr Cocktailbar + Summer Lounge\nab 18 Uhr Abschluss-Gottesdienst
URL:https://belinda-discothek.de/event/sommerfest-rund-um-die-belinda/
LOCATION:Belinda-Areal\, Backnanger Straße 78\, Sulzbach/Murr\, 71560\, Deutschland
CATEGORIES:Disco-Veranstaltung,Konzerte/Events,Kultur im Kessel
ATTACH;FMTTYPE=image/jpeg:https://belinda-discothek.de/wp-content/uploads/2025/07/Sommerfest_Facebook_2025.jpg
END:VEVENT
BEGIN:VEVENT
DTSTART;TZID=Europe/Berlin:20250911T200000
DTEND;TZID=Europe/Berlin:20250911T230000
DTSTAMP:20260423T135931
CREATED:20250709T174409Z
LAST-MODIFIED:20250709T181554Z
UID:15123-1757620800-1757631600@belinda-discothek.de
SUMMARY:Countryrock-Konzert: BEE AND THE RICHTONS - Do. 11.09.25 | 20:00 Uhr
DESCRIPTION:Mehrstimmiger Gesang\, kraftvoller Gitarrensound\, Spielfreude vom ersten Ton an und eine Sängerin\, die mit ihrer Bühnenpräsenz niemand stillsitzen lässt: Das ist die Countryrockband Bee & the Richtones. Die Backnanger Sängerin Sabine „Bee“ Petrich war viele Jahre für den SWR auf den Bühnen des Landes unterwegs. Nun hat sie fünf erfahrene Musiker um sich geschart und lebt mit ihnen ihre gemeinsame Liebe zu Country\, Rock und Pop. Bee & the Richtones bringen die besten Hits aus dem Herzen der USA und den Country- und Line Dance-Charts auf die Bühne: Songs von Shania Twain\, Bryan Adams\, Bonnie Raitt\, Keith Urban\, The Eagles und Midland gehören ebenso dazu wie Titel von Blake Shelton\, Lady Antebellum\, Gretchen Wilson\, Johnny Cash und vielen anderen. Mit ihrer erfrischend-dynamischen Rocking Country Music haben sich Bee & the Richtones innerhalb kurzer Zeit in die Herzen ihrer Fans gespielt. Der faszinierende und stets neu klingende Repertoire-Mix aus energiegeladenem Countryrock und gefühlvollen Balladen geht direkt in die Beine und macht eine Menge Spaß. Diese Band verwandelt jedes Konzert in eine unvergessliche Countryrock-Party! \nTICKETS HIER.
URL:https://belinda-discothek.de/event/countryrock-konzert-bee-and-the-richtons-do-11-09-25-2000-uhr/
LOCATION:Discothek Belinda\, Backnanger Str. 78\, Sulzbach an der Murr\, 71560\, Deutschland
CATEGORIES:Konzerte/Events,Kultur im Kessel
ATTACH;FMTTYPE=image/jpeg:https://belinda-discothek.de/wp-content/uploads/2025/07/KiK_Bee.jpg
ORGANIZER;CN="Begegnungs- und Kulturzentrum Akzente UG":MAILTO:kontakt@belinda-discothek.de
END:VEVENT
END:VCALENDAR