BEGIN:VCALENDAR
VERSION:2.0
PRODID:-//Belinda Discothek - ECPv6.6.1//NONSGML v1.0//EN
CALSCALE:GREGORIAN
METHOD:PUBLISH
X-ORIGINAL-URL:https://belinda-discothek.de
X-WR-CALDESC:Veranstaltungen für Belinda Discothek
REFRESH-INTERVAL;VALUE=DURATION:PT1H
X-Robots-Tag:noindex
X-PUBLISHED-TTL:PT1H
BEGIN:VTIMEZONE
TZID:Europe/Berlin
BEGIN:DAYLIGHT
TZOFFSETFROM:+0100
TZOFFSETTO:+0200
TZNAME:CEST
DTSTART:20250330T010000
END:DAYLIGHT
BEGIN:STANDARD
TZOFFSETFROM:+0200
TZOFFSETTO:+0100
TZNAME:CET
DTSTART:20251026T010000
END:STANDARD
END:VTIMEZONE
BEGIN:VEVENT
DTSTART;TZID=Europe/Berlin:20250711T200000
DTEND;TZID=Europe/Berlin:20250711T223000
DTSTAMP:20260423T202533
CREATED:20250509T121113Z
LAST-MODIFIED:20250606T083829Z
UID:15011-1752264000-1752273000@belinda-discothek.de
SUMMARY:Der Groove der Geschichte - Konzert mit Annette und Yannick Hölzl - Fr. 11.07.25 | 20:00 Uhr
DESCRIPTION:/*! elementor – v3.23.0 – 05-08-2024 */\n.elementor-widget-image{text-align:center}.elementor-widget-image a{display:inline-block}.elementor-widget-image a img[src$=”.svg”]{width:48px}.elementor-widget-image img{vertical-align:middle;display:inline-block}																							 \n„Der Groove der Geschichte. Warum ein Papst die Rockmusik erfand. Ein Fall für Holmes und Watson.“ \nAnnette Hölzl als Mr. Holmes der Musikgeschichte greift mit Klassik meets Jazz\, Rock\, Funk und Hiphop in die Tasten\, moderiert und liest. Singer/Songwriter und Producer NOIAN alias Watson liefert mit Hiphop Songs und Moderation den Beweis\, wie sich Stile und Genres\, Klassik und Moderne und Jung und Alt ergänzen und inspirieren. Gemeinsam decken die beiden spannende und verblüffende musikalische Zusammenhänge auf\, ihre groovigen Ermittlungen sind provokativ\, amüsant und mitreißend. \nHat wirklich ein Papst die Rockmusik erfunden? War Wolferl Mozart oder Michael Jackson der King of Pop? Gibt es wirklich eine magische Begleitung aus der Antike? War Johann Sebastian Bach zu seiner Zeit wirklich ein Superstar? Hat ein Klassiker tatsächlich die elektronische Musik erfunden? Hat Richard Wagner Filmmusik geschrieben und was hat Gustav Mahler mit Star Trek zu tun? \nEs ist ein musikalischer Brückenschlag über alle Grenzen\, Stile und Genres hinweg. Sowas erlebt man tatsächlich nicht alle Tage. Ein Abend\, den man nicht verpassen sollte! \nTICKETS HIER.
URL:https://belinda-discothek.de/event/der-groove-der-geschichte-konzert-mit-annette-und-yannick-hoelzl-fr-11-07-25-2000-uhr/
LOCATION:Discothek Belinda\, Backnanger Str. 78\, Sulzbach an der Murr\, 71560\, Deutschland
CATEGORIES:Konzerte/Events,Kultur im Kessel
ORGANIZER;CN="Begegnungs- und Kulturzentrum Akzente UG":MAILTO:kontakt@belinda-discothek.de
END:VEVENT
END:VCALENDAR