BEGIN:VCALENDAR
VERSION:2.0
PRODID:-//Belinda Discothek - ECPv6.6.1//NONSGML v1.0//EN
CALSCALE:GREGORIAN
METHOD:PUBLISH
X-ORIGINAL-URL:https://belinda-discothek.de
X-WR-CALDESC:Veranstaltungen für Belinda Discothek
REFRESH-INTERVAL;VALUE=DURATION:PT1H
X-Robots-Tag:noindex
X-PUBLISHED-TTL:PT1H
BEGIN:VTIMEZONE
TZID:Europe/Berlin
BEGIN:DAYLIGHT
TZOFFSETFROM:+0100
TZOFFSETTO:+0200
TZNAME:CEST
DTSTART:20250330T010000
END:DAYLIGHT
BEGIN:STANDARD
TZOFFSETFROM:+0200
TZOFFSETTO:+0100
TZNAME:CET
DTSTART:20251026T010000
END:STANDARD
END:VTIMEZONE
BEGIN:VEVENT
DTSTART;TZID=Europe/Berlin:20250606T210000
DTEND;TZID=Europe/Berlin:20250607T020000
DTSTAMP:20260423T202306
CREATED:20250425T161643Z
LAST-MODIFIED:20250425T161643Z
UID:14945-1749243600-1749261600@belinda-discothek.de
SUMMARY:ROCK through the ages | DJ Duo Double Trouble
DESCRIPTION:Julia und Mischl\, heute bekannt als DJ Duo Double Trouble\, sind seit ihren Teenagerjahren in den 90ern Teil der Belinda-Familie. Nun stehen sie selbst am DJ-Pult – mit jeder Menge Leidenschaft für echten Rock. \nAn diesem Abend geht es auf eine Reise durch fünf Jahrzehnte Musikgeschichte. Von den 70ern bis heute feiern wir die Vielfalt des Rocks. Dabei treffen verborgene Schätze\, die kaum im Radio laufen\, auf legendäre Hymnen\, die jeder mitsingen kann. \nEinerseits kommen die großen Klassiker auf die Teller. Andererseits gibt’s auch aktuelle Songs mit dem Potenzial zum nächsten Lieblingshit. So entsteht ein Mix\, der altbekanntes mit frischer Energie verbindet. \nMusikalisch reicht das Spektrum von Classic Rock über Punkrock und Deutschrock bis hin zu Grunge\, Metal und NuMetal. Dadurch wird der Abend abwechslungsreich – und es ist garantiert für jeden etwas dabei. \nGleichzeitig ist das eure Chance\, alte Lieblingssongs wiederzuentdecken. Oder neue Tracks zu finden\, die euch sofort packen. So wird der Abend zur echten Zeitreise mit Überraschungseffekt. \n  \n\n\n\n\n#ClassicRock #Punkrock #Deutschrock #Grunge #Metal #NuMetal #DJDoubleTrouble #BelindaRock #70er #80er #90er #2000er #2010er #2020er #Rocknacht #abrocken #Musikreise #Rockliebe \n\n\n\n\n 
URL:https://belinda-discothek.de/event/rock-through-the-ages-dj-duo-double-trouble/
LOCATION:Discothek Belinda\, Backnanger Str. 78\, Sulzbach an der Murr\, 71560\, Deutschland
CATEGORIES:Disco-Veranstaltung
ATTACH;FMTTYPE=image/jpeg:https://belinda-discothek.de/wp-content/uploads/2025/04/Juni_2025_1200x628-scaled.jpg
ORGANIZER;CN="Belinda Discothek":MAILTO:kontakt@belinda-discothek.de
END:VEVENT
END:VCALENDAR