BEGIN:VCALENDAR
VERSION:2.0
PRODID:-//Belinda Discothek - ECPv6.6.1//NONSGML v1.0//EN
CALSCALE:GREGORIAN
METHOD:PUBLISH
X-ORIGINAL-URL:https://belinda-discothek.de
X-WR-CALDESC:Veranstaltungen für Belinda Discothek
REFRESH-INTERVAL;VALUE=DURATION:PT1H
X-Robots-Tag:noindex
X-PUBLISHED-TTL:PT1H
BEGIN:VTIMEZONE
TZID:Europe/Berlin
BEGIN:DAYLIGHT
TZOFFSETFROM:+0100
TZOFFSETTO:+0200
TZNAME:CEST
DTSTART:20250330T010000
END:DAYLIGHT
BEGIN:STANDARD
TZOFFSETFROM:+0200
TZOFFSETTO:+0100
TZNAME:CET
DTSTART:20251026T010000
END:STANDARD
END:VTIMEZONE
BEGIN:VEVENT
DTSTART;TZID=Europe/Berlin:20250516T200000
DTEND;TZID=Europe/Berlin:20250516T220000
DTSTAMP:20260424T171308
CREATED:20250425T090152Z
LAST-MODIFIED:20250425T104031Z
UID:14917-1747425600-1747432800@belinda-discothek.de
SUMMARY:Singer-/Songwriterin: Konzert mit ELENA SEEGER - Fr. 16.05.25 | 20:00 Uhr
DESCRIPTION:ELENA SEEGER – Laubbläserlyrik\n„Laubbläserlyrik“ heißt das neue Album der Stuttgarter Liedermacherin Elena Seeger. Von Insekten\, Einhörnern und anderem Gemüse singt die preisgekrönte Liedermacherin\, die sich mit ihrer Gitarre den vielen abstrusen Fragen des Lebens widmet. Das Spektrum reicht von lyrischen Balladen über ironisch-kritische Stücke bis hin zur skurrilen Gedankenspielerei\, wobei sich Einflüsse aus Jazz und Blues mit Elementen der klassischen Liedermacherei verbinden. So entsteht eine Musik\, die zwischen verschiedenen Stimmungen und Klangwelten pendelt\, zwischen Absurdität und Alltag\, Humor und Melancholie. Hierbei bedient sich die gebürtige Killertälerin immer wieder des schwäbischen Dialektes und widmet sich auf authentische Weise dem modernen Schwabentum… bis schließlich doch der Laubbläser in gewohnter Manier zu Wort kommt. \nTICKETS HIER. \n/*! elementor – v3.23.0 – 05-08-2024 */\n.elementor-widget-image{text-align:center}.elementor-widget-image a{display:inline-block}.elementor-widget-image a img[src$=”.svg”]{width:48px}.elementor-widget-image img{vertical-align:middle;display:inline-block}
URL:https://belinda-discothek.de/event/singer-songwriterin-konzert-mit-elena-seeger-fr-16-05-25-2000-uhr/
LOCATION:Discothek Belinda\, Backnanger Str. 78\, Sulzbach an der Murr\, 71560\, Deutschland
CATEGORIES:Konzerte/Events,Kultur im Kessel
ATTACH;FMTTYPE=image/jpeg:https://belinda-discothek.de/wp-content/uploads/2025/03/KiK_Elena_Seeger.jpg
ORGANIZER;CN="Begegnungs- und Kulturzentrum Akzente UG":MAILTO:kontakt@belinda-discothek.de
END:VEVENT
END:VCALENDAR