BEGIN:VCALENDAR
VERSION:2.0
PRODID:-//Belinda Discothek - ECPv6.6.1//NONSGML v1.0//EN
CALSCALE:GREGORIAN
METHOD:PUBLISH
X-WR-CALNAME:Belinda Discothek
X-ORIGINAL-URL:https://belinda-discothek.de
X-WR-CALDESC:Veranstaltungen für Belinda Discothek
REFRESH-INTERVAL;VALUE=DURATION:PT1H
X-Robots-Tag:noindex
X-PUBLISHED-TTL:PT1H
BEGIN:VTIMEZONE
TZID:Europe/Berlin
BEGIN:DAYLIGHT
TZOFFSETFROM:+0100
TZOFFSETTO:+0200
TZNAME:CEST
DTSTART:20250330T010000
END:DAYLIGHT
BEGIN:STANDARD
TZOFFSETFROM:+0200
TZOFFSETTO:+0100
TZNAME:CET
DTSTART:20251026T010000
END:STANDARD
END:VTIMEZONE
BEGIN:VEVENT
DTSTART;TZID=Europe/Berlin:20250503T210000
DTEND;TZID=Europe/Berlin:20250504T020000
DTSTAMP:20260425T135953
CREATED:20250325T160339Z
LAST-MODIFIED:20250325T160339Z
UID:14756-1746306000-1746324000@belinda-discothek.de
SUMMARY:Ü30 mit DJ Duo Double Trouble
DESCRIPTION:Laut. Echt. Legendär. Die Belinda Ü30 – diesmal mit DJ Duo Double Trouble!Keine Sorge\, Andy-Fans – er ist bald zurück! Doch während er sich eine wohlverdiente Auszeit gönnt\, übernimmt das DJ Duo Double Trouble das DJ-Pult und sorgt dafür\, dass die Belinda Ü30 in gewohnter Rock-Manier weitergeht.\nStatt Chart-Eintagsfliegen gibt’s handverlesene Rock-Hymnen und echte Klassiker! Von mitreißenden Gitarrenriffs bis zu Songs\, die jeder aus voller Kehle mitsingen kann – wir liefern den Soundtrack für eine unvergessliche Nacht.\nDouble Trouble sind echte Belinda-Kenner und bringen ihre Leidenschaft für zeitlose Rock-Perlen mit. Sie mixen die besten Klassiker mit Songs aus dem 90ern und 2000ern und garantieren euch eine Nacht voller Energie\, Nostalgie und purer Rock-Leidenschaft.\nVon Classic Rock und Hard Rock über Grunge bis Nu Metal – hier kommen Rockfans voll auf ihre Kosten.\nAber Achtung: Wer Discofox oder Eurodance erwartet\, wird bitter enttäuscht werden! \nSchnapp dir deine Freunde und feiere eine Nacht\, die hält\, was sie verspricht. Rock on – und freut euch schon auf Andys Rückkehr!\n#rock #samstagabend #disco #rockdisco #ü30 #ü30party #pop \n 
URL:https://belinda-discothek.de/event/ue30-mit-dj-duo-double-trouble-2/
LOCATION:Discothek Belinda\, Backnanger Str. 78\, Sulzbach an der Murr\, 71560\, Deutschland
CATEGORIES:Disco-Veranstaltung
ATTACH;FMTTYPE=image/jpeg:https://belinda-discothek.de/wp-content/uploads/2025/02/Mai_2025_1200x6282.jpg
ORGANIZER;CN="Belinda Discothek":MAILTO:kontakt@belinda-discothek.de
END:VEVENT
END:VCALENDAR